BEGIN:VCALENDAR
VERSION:2.0
METHOD:PUBLISH
X-WR-CALNAME:Royal Oak Primary School |  January 23 2018- February 22 2018
PRODID:-//strange bird labs//Drupal iCal API//EN
BEGIN:VEVENT
DTSTAMP;VALUE=DATE-TIME:20180123T105436Z
DTSTART;VALUE=DATE-TIME:20180124T203000Z
DTEND;VALUE=DATE-TIME:20180124T203000Z
UID:http://www.royaloak.school.nz/second-hand-uniform-sale-2
URL;VALUE=URI:http://www.royaloak.school.nz/second-hand-uniform-sale-2
SUMMARY:Second Hand Uniform Sale
DESCRIPTION:<p>Second hand uniform sale to be held on thursday 25 January 2018 from 9\:30 to 10\:30am outside Room 1.</p>
 
END:VEVENT
BEGIN:VEVENT
DTSTAMP;VALUE=DATE-TIME:20180123T105436Z
DTSTART;VALUE=DATE-TIME:20180124T230000Z
DTEND;VALUE=DATE-TIME:20180124T230000Z
UID:http://www.royaloak.school.nz/2018-class-placements-available
URL;VALUE=URI:http://www.royaloak.school.nz/2018-class-placements-available
SUMMARY:2018 Class placements available
DESCRIPTION:<p>2018 class placements will be available on the school website <a href=\\"http\://www.royaloak.school.nz\\">www.royaloak.school.nz</a> and on the front door of the school office from 12pm</p>
 
END:VEVENT
BEGIN:VEVENT
DTSTAMP;VALUE=DATE-TIME:20180123T105436Z
DTSTART;VALUE=DATE-TIME:20180130T195000Z
DTEND;VALUE=DATE-TIME:20180130T195000Z
UID:http://www.royaloak.school.nz/school-begins-normal-hours
URL;VALUE=URI:http://www.royaloak.school.nz/school-begins-normal-hours
SUMMARY:School begins normal hours.
END:VEVENT
BEGIN:VEVENT
DTSTAMP;VALUE=DATE-TIME:20180123T105436Z
DTSTART;VALUE=DATE-TIME:20180131T015300Z
DTEND;VALUE=DATE-TIME:20020203
UID:http://www.royaloak.school.nz/yr-1-enrolments-starting-day
URL;VALUE=URI:http://www.royaloak.school.nz/yr-1-enrolments-starting-day
SUMMARY:Yr 1 enrolments starting day
END:VEVENT
BEGIN:VEVENT
DTSTAMP;VALUE=DATE-TIME:20180123T105436Z
DTSTART;VALUE=DATE-TIME:20180131T213000Z
DTEND;VALUE=DATE-TIME:20180131T213000Z
UID:http://www.royaloak.school.nz/powhiri-1030am-1
URL;VALUE=URI:http://www.royaloak.school.nz/powhiri-1030am-1
SUMMARY:Powhiri 10\:30am
END:VEVENT
BEGIN:VEVENT
DTSTAMP;VALUE=DATE-TIME:20180123T105436Z
DTSTART;VALUE=DATE-TIME:20180202T004500Z
DTEND;VALUE=DATE-TIME:20180202T004500Z
UID:http://www.royaloak.school.nz/whole-school-assembly-40
URL;VALUE=URI:http://www.royaloak.school.nz/whole-school-assembly-40
SUMMARY:Whole School Assembly
END:VEVENT
BEGIN:VEVENT
DTSTAMP;VALUE=DATE-TIME:20180123T105436Z
DTSTART;VALUE=DATE-TIME:20180205T040000Z
DTEND;VALUE=DATE-TIME:20180205T060000Z
UID:http://www.royaloak.school.nz/meet-greet-and-eat-3
URL;VALUE=URI:http://www.royaloak.school.nz/meet-greet-and-eat-3
SUMMARY:Meet\, Greet and Eat
END:VEVENT
BEGIN:VEVENT
DTSTAMP;VALUE=DATE-TIME:20180123T105436Z
DTSTART;VALUE=DATE-TIME:20180206T015100Z
DTEND;VALUE=DATE-TIME:20020203
UID:http://www.royaloak.school.nz/waitangi-day-school-closed-2
URL;VALUE=URI:http://www.royaloak.school.nz/waitangi-day-school-closed-2
SUMMARY:Waitangi Day - School closed
END:VEVENT
BEGIN:VEVENT
DTSTAMP;VALUE=DATE-TIME:20180123T105436Z
DTSTART;VALUE=DATE-TIME:20180212T015900Z
DTEND;VALUE=DATE-TIME:20020203
UID:http://www.royaloak.school.nz/year-1-enrolment-starting-day
URL;VALUE=URI:http://www.royaloak.school.nz/year-1-enrolment-starting-day
SUMMARY:Year 1 enrolment starting day
END:VEVENT
BEGIN:VEVENT
DTSTAMP;VALUE=DATE-TIME:20180123T105436Z
DTSTART;VALUE=DATE-TIME:20180220T020000Z
DTEND;VALUE=DATE-TIME:20020203
UID:http://www.royaloak.school.nz/3-way-goal-setting
URL;VALUE=URI:http://www.royaloak.school.nz/3-way-goal-setting
SUMMARY:3 way goal setting
END:VEVENT
END:VCALENDAR
